BEGIN:VCALENDAR
VERSION:2.0
PRODID:-//wp-events-plugin.com//7.2.3.1//EN
TZID:America/Los_Angeles
X-WR-TIMEZONE:America/Los_Angeles
BEGIN:VEVENT
UID:1@destinationnowhereproductions.com
DTSTART;TZID=America/Los_Angeles:20260615T093000
DTEND;TZID=America/Los_Angeles:20260619T140000
DTSTAMP:20260423T003602Z
URL:https://www.destinationnowhereproductions.com/events/summer-camp-week-
 1/
SUMMARY:Summer Camp Week 1
DESCRIPTION:      \nVisual and Performing Arts Summer Camp \nSchedule  
 2026\nWeek 1        June 15 - 19\n9:30 AM to 2 PM\nBring snacks and Lu
 nch.\n&nbsp\;
ATTACH;FMTTYPE=image/jpeg:https://www.destinationnowhereproductions.com/wp
 -content/uploads/2026/04/1.jpeg
CATEGORIES:Summer Camp
LOCATION:The Workshop\, 700 Maple Ave\, Torrance\, CA\, 90503\, United Stat
 es
X-APPLE-STRUCTURED-LOCATION;VALUE=URI;X-ADDRESS=700 Maple Ave\, Torrance\, 
 CA\, 90503\, United States;X-APPLE-RADIUS=100;X-TITLE=The Workshop:geo:0,0
END:VEVENT
BEGIN:VTIMEZONE
TZID:America/Los_Angeles
X-LIC-LOCATION:America/Los_Angeles
BEGIN:DAYLIGHT
DTSTART:20260308T030000
TZOFFSETFROM:-0800
TZOFFSETTO:-0700
TZNAME:PDT
END:DAYLIGHT
END:VTIMEZONE
END:VCALENDAR